BEGIN:VCALENDAR
VERSION:2.0
PRODID:-//Plone.org//NONSGML plone.app.event//EN
X-WR-TIMEZONE:Europe/Berlin
BEGIN:VEVENT
SUMMARY:Akadem. Mitarbeiter*innen
DTSTART;VALUE=DATE:20230208
DTEND;VALUE=DATE:20230416
DTSTAMP;VALUE=DATE-TIME:20260423T142915Z
UID:6524f7ca0eb24c2aa53b2a5afa0c2415-de@www.evifa.de
CONTACT:reinhard.johler@uni-tuebingen.de
CREATED;VALUE=DATE-TIME:20230208T115034Z
DESCRIPTION:Zwei Stellen am Ludwig-Uhland-Institut der Universität Tübin
 gen @uni_tue an der Arbeitsstelle „Sprache in Südwestdeutschland“ aus
 geschrieben (unbefristet\, E 13 TV-L)\; Bewerbungsfrist: 15. April 2023
LAST-MODIFIED;VALUE=DATE-TIME:20231026T085903Z
LOCATION:Tübingen
URL:https://www.evifa.de/de/assets/news/archive/akadem-mitarbeiter-innen
END:VEVENT
END:VCALENDAR
